BEGIN:VCALENDAR
VERSION:2.0
PRODID:-//SD School - ECPv6.3.6//NONSGML v1.0//EN
CALSCALE:GREGORIAN
METHOD:PUBLISH
X-ORIGINAL-URL:https://pmlsdpublicschool32.ac.in
X-WR-CALDESC:Events for SD School
REFRESH-INTERVAL;VALUE=DURATION:PT1H
X-Robots-Tag:noindex
X-PUBLISHED-TTL:PT1H
BEGIN:VTIMEZONE
TZID:UTC
BEGIN:STANDARD
TZOFFSETFROM:+0000
TZOFFSETTO:+0000
TZNAME:UTC
DTSTART:20220101T000000
END:STANDARD
END:VTIMEZONE
BEGIN:VEVENT
DTSTART;TZID=UTC:20221015T080000
DTEND;TZID=UTC:20221024T170000
DTSTAMP:20260421T152050
CREATED:20221117T075223Z
LAST-MODIFIED:20221117T105518Z
UID:2488-1665820800-1666630800@pmlsdpublicschool32.ac.in
SUMMARY:Parent Teacher Meet
DESCRIPTION:Parent Teacher Meet
URL:https://pmlsdpublicschool32.ac.in/event/parent-teacher-meet/
CATEGORIES:vacations
ATTACH;FMTTYPE=image/jpeg:https://pmlsdpublicschool32.ac.in/wp-content/uploads/2020/05/13-difficult-exam-in-elementary-school-5S9KMNQ.jpg
END:VEVENT
END:VCALENDAR